BEGIN:VCALENDAR
VERSION:2.0
PRODID:-//Washington Fly Fishing Club - ECPv6.15.20//NONSGML v1.0//EN
CALSCALE:GREGORIAN
METHOD:PUBLISH
X-WR-CALNAME:Washington Fly Fishing Club
X-ORIGINAL-URL:https://wffc.com
X-WR-CALDESC:Events for Washington Fly Fishing Club
REFRESH-INTERVAL;VALUE=DURATION:PT1H
X-Robots-Tag:noindex
X-PUBLISHED-TTL:PT1H
BEGIN:VTIMEZONE
TZID:America/Los_Angeles
BEGIN:DAYLIGHT
TZOFFSETFROM:-0800
TZOFFSETTO:-0700
TZNAME:PDT
DTSTART:20240310T100000
END:DAYLIGHT
BEGIN:STANDARD
TZOFFSETFROM:-0700
TZOFFSETTO:-0800
TZNAME:PST
DTSTART:20241103T090000
END:STANDARD
BEGIN:DAYLIGHT
TZOFFSETFROM:-0800
TZOFFSETTO:-0700
TZNAME:PDT
DTSTART:20250309T100000
END:DAYLIGHT
BEGIN:STANDARD
TZOFFSETFROM:-0700
TZOFFSETTO:-0800
TZNAME:PST
DTSTART:20251102T090000
END:STANDARD
BEGIN:DAYLIGHT
TZOFFSETFROM:-0800
TZOFFSETTO:-0700
TZNAME:PDT
DTSTART:20260308T100000
END:DAYLIGHT
BEGIN:STANDARD
TZOFFSETFROM:-0700
TZOFFSETTO:-0800
TZNAME:PST
DTSTART:20261101T090000
END:STANDARD
END:VTIMEZONE
BEGIN:VEVENT
DTSTART;TZID=America/Los_Angeles:20250916T173000
DTEND;TZID=America/Los_Angeles:20250916T210000
DTSTAMP:20260422T051318
CREATED:20250227T205355Z
LAST-MODIFIED:20250906T201607Z
UID:10000623-1758043800-1758056400@wffc.com
SUMMARY:September 2025 Club Dinner Meeting Featuring Skip Morris
DESCRIPTION:Join us for our September 2025 monthly club meeting featuring Skip Morris\, noted author and fly tyer.  Skip’s presentation will be “Lake Rise” – Dry Fly Fishing on Lakes. \nSkip Morris is among the most prolific fly-fishing and fly-tying authors alive—his name is known to anglers around the world. \nHe has written twenty-one books on fly fishing and tying\, including the established standard beginning fly tier’s volume Fly Tying Made Clear and Simple\, and The Art of Tying the Bass Fly\, Morris & Chan on Fly Fishing Trout Lakes (with lake-fishing guru Brian Chan)\, Concise Handbook of Fly Tying\, and Fly Fisher’s Guide to Western River Hatches. \n 
URL:https://wffc.com/event/september-2025-club-dinner-meeting/
LOCATION:Mercer Island VFW Hall\, 1836 72nd Ave SE\, Mercer Island\,\, WA\, 98040\, United States
CATEGORIES:Dinners
ATTACH;FMTTYPE=image/jpeg:https://wffc.com/wp-content/uploads/2025/02/Skip-Morris.jpg
ORGANIZER;CN="Neal Hoffberg VP of Programs":MAILTO:neal@wffc.com
GEO:47.5935869;-122.2427581
X-APPLE-STRUCTURED-LOCATION;VALUE=URI;X-ADDRESS=Mercer Island VFW Hall 1836 72nd Ave SE Mercer Island WA 98040 United States;X-APPLE-RADIUS=500;X-TITLE=1836 72nd Ave SE:geo:-122.2427581,47.5935869
END:VEVENT
END:VCALENDAR