BEGIN:VCALENDAR
VERSION:2.0
PRODID:-//Washington Fly Fishing Club - ECPv6.15.20//NONSGML v1.0//EN
CALSCALE:GREGORIAN
METHOD:PUBLISH
X-ORIGINAL-URL:https://wffc.com
X-WR-CALDESC:Events for Washington Fly Fishing Club
REFRESH-INTERVAL;VALUE=DURATION:PT1H
X-Robots-Tag:noindex
X-PUBLISHED-TTL:PT1H
BEGIN:VTIMEZONE
TZID:America/Los_Angeles
BEGIN:DAYLIGHT
TZOFFSETFROM:-0800
TZOFFSETTO:-0700
TZNAME:PDT
DTSTART:20250309T100000
END:DAYLIGHT
BEGIN:STANDARD
TZOFFSETFROM:-0700
TZOFFSETTO:-0800
TZNAME:PST
DTSTART:20251102T090000
END:STANDARD
BEGIN:DAYLIGHT
TZOFFSETFROM:-0800
TZOFFSETTO:-0700
TZNAME:PDT
DTSTART:20260308T100000
END:DAYLIGHT
BEGIN:STANDARD
TZOFFSETFROM:-0700
TZOFFSETTO:-0800
TZNAME:PST
DTSTART:20261101T090000
END:STANDARD
BEGIN:DAYLIGHT
TZOFFSETFROM:-0800
TZOFFSETTO:-0700
TZNAME:PDT
DTSTART:20270314T100000
END:DAYLIGHT
BEGIN:STANDARD
TZOFFSETFROM:-0700
TZOFFSETTO:-0800
TZNAME:PST
DTSTART:20271107T090000
END:STANDARD
END:VTIMEZONE
BEGIN:VEVENT
DTSTART;VALUE=DATE:20260906
DTEND;VALUE=DATE:20260907
DTSTAMP:20260420T021149
CREATED:20260324T015244Z
LAST-MODIFIED:20260418T022217Z
UID:10000643-1788652800-1788739199@wffc.com
SUMMARY:Hood Canal Outing
DESCRIPTION:Our annual trip to Hood Canal\, hosted by Jay Deeds. Sea-run cutthroat\, the occasional coho\, hot pizza\, and cold beer. What could be better! The sunsets from Jay’s yard are amazing\, and the fishing can be pretty good too! \nSaturday happy hour/ dinner around 5:00 at Jays. \nThe boat launch is just north at Misery Point\, and camping is available at Scenic Beach State Park\, right next door. RSVP for headcount. \nJay’s contact info is:\n15350 NW Maple Ln.\nSeabeck\, WA\nph. 360-830-4885\ndogooddeeds@wavecable.com \nMembers\, if you can take another member in your boat to fish at the Hood Canal outing\, please acknowledge this in the “I Can Assist With” sign-up\, so that we can organize members to fish with you. \nSeptember date TBD\, so listed as ‘postponed’ for now. Will finalize as we get closer to the month. Stay tuned to this channel! \n 
URL:https://wffc.com/event/hood-canal-outing-2/
LOCATION:Hood Canal\, 15350 NW Maple Ln\, Seabeck\, United States
CATEGORIES:Outings
ATTACH;FMTTYPE=image/jpeg:https://wffc.com/wp-content/uploads/2026/03/Seabeck-e1774316944885.avif
GEO:47.649055;-122.8457743
X-APPLE-STRUCTURED-LOCATION;VALUE=URI;X-ADDRESS=Hood Canal 15350 NW Maple Ln Seabeck United States;X-APPLE-RADIUS=500;X-TITLE=15350 NW Maple Ln:geo:-122.8457743,47.649055
END:VEVENT
END:VCALENDAR