BEGIN:VCALENDAR
VERSION:2.0
PRODID:-//Washington Fly Fishing Club - ECPv6.15.20//NONSGML v1.0//EN
CALSCALE:GREGORIAN
METHOD:PUBLISH
X-ORIGINAL-URL:https://wffc.com
X-WR-CALDESC:Events for Washington Fly Fishing Club
REFRESH-INTERVAL;VALUE=DURATION:PT1H
X-Robots-Tag:noindex
X-PUBLISHED-TTL:PT1H
BEGIN:VTIMEZONE
TZID:America/Los_Angeles
BEGIN:DAYLIGHT
TZOFFSETFROM:-0800
TZOFFSETTO:-0700
TZNAME:PDT
DTSTART:20250309T100000
END:DAYLIGHT
BEGIN:STANDARD
TZOFFSETFROM:-0700
TZOFFSETTO:-0800
TZNAME:PST
DTSTART:20251102T090000
END:STANDARD
BEGIN:DAYLIGHT
TZOFFSETFROM:-0800
TZOFFSETTO:-0700
TZNAME:PDT
DTSTART:20260308T100000
END:DAYLIGHT
BEGIN:STANDARD
TZOFFSETFROM:-0700
TZOFFSETTO:-0800
TZNAME:PST
DTSTART:20261101T090000
END:STANDARD
BEGIN:DAYLIGHT
TZOFFSETFROM:-0800
TZOFFSETTO:-0700
TZNAME:PDT
DTSTART:20270314T100000
END:DAYLIGHT
BEGIN:STANDARD
TZOFFSETFROM:-0700
TZOFFSETTO:-0800
TZNAME:PST
DTSTART:20271107T090000
END:STANDARD
END:VTIMEZONE
BEGIN:VEVENT
DTSTART;TZID=America/Los_Angeles:20260120T173000
DTEND;TZID=America/Los_Angeles:20260120T210000
DTSTAMP:20260420T015454
CREATED:20251218T055017Z
LAST-MODIFIED:20260120T004938Z
UID:10000630-1768930200-1768942800@wffc.com
SUMMARY:January 2026 Club Dinner Meeting Featuring Ryan Smith\, Owner of the Avid Angler
DESCRIPTION:Join us for our January 2026 monthly club meeting with Ryan Smith! \nRyan Smith\, the owner of The Avid Angler in the Seattle area since 2011\, is a dedicated fly fishing guide\, educator\, and FFI Certified Casting Instructor with a biology background\, known for his expertise in Puget Sound saltwater and river fishing\, and passion for conservation\, helping anglers of all levels. He grew up fishing in the Pacific Northwest\, blending his skills in guiding\, retail\, and business to run the renowned fly shop near Kenmore. \nBryan will focus on spey fishing for trout. So if you’ve been thinking about mastering that grand\, two-handed casting technique from the River Spey (and all the gear that goes with it)\, this club meeting is for you! \n\n🍻 Same meeting venue: The Hall at Occidental\nThis is our second dinner meeting at the new spot: The Hall at Occidental\, 589 Occidental Avenue South\, Seattle. \nHere’s the lowdown on the location: \n\nIt’s directly across the street (west side) from the northwest corner of Lumen Field (where the Seahawks play).\nIt’s kitty-corner from that big parking lot to the north.\nThe area is well-lit\, secure\, and has been seriously upgraded with fancy condos and offices—if you’ve been to a game lately\, you know the drill. It’s not technically downtown or Pioneer Square. It’s its own cool spot.\nYou can get here from basically anywhere (I-90\, I-5\, 99\, Light Rail\, bus\, surface streets—the whole kit and caboodle).\nParking: Lumen Field lots close early (6 pm!)\, so don’t count on them. Good news is there’s convenient parking right next door. Just be sure to give yourself some extra time to get settled!\n\nThe venue is run by the same folks who run a bunch of beer halls (which\, let’s face it\, is a perfect spot for a fly fishing club!). We’ll be upstairs in a private mezzanine that seats 40 people. \nGET YOUR NAME ON THE LIST EARLY TO GRAB A SEAT! \nDinner:\nJust like in November and before – buy your own pub grub – the meeting itself is FREE! You can’t beat that anywhere in Seattle!! \n(Heads up: they tack on a mandatory 20% gratuity and 10.35% tax\, so factor that in.) \n💪 We Need You There!\nThis new venue is a test for us\, and it’s a test for The Hall! We need a solid turnout to show them we’re a good partner—translation: we need to show them we spend enough on grub and drinks to make it worth their while. \nSo please\, sign up as early as you can and show up! We need to pack the room to make these dinner meetings a regular thing! \n\n\n\nBelow is the link to attend the meeting via Zoom.\n\nInvite Link https://us06web.zoom.us/j/84272571145?pwd=LxVHPpY65DD60VTVFOP4SKRZ7eEIkC.1
URL:https://wffc.com/event/january-2026-club-dinner-meeting-featuring-ryan-smith-owner-of-the-avid-angler/
LOCATION:The Hall at Occidental\, 589 Occidental Avenue South\, Seattle\, WA\, 98134\, United States
CATEGORIES:Dinners
ATTACH;FMTTYPE=image/jpeg:https://wffc.com/wp-content/uploads/2025/02/Ryan-Smith.jpg
GEO:47.596151;-122.333458
X-APPLE-STRUCTURED-LOCATION;VALUE=URI;X-ADDRESS=The Hall at Occidental 589 Occidental Avenue South Seattle WA 98134 United States;X-APPLE-RADIUS=500;X-TITLE=589 Occidental Avenue South:geo:-122.333458,47.596151
END:VEVENT
END:VCALENDAR